BEGIN:VCALENDAR
VERSION:2.0
PRODID:-//hacksw/handcal//NONSGML v1.0//EN
CALSCALE:GREGORIAN
BEGIN:VEVENT
TZID:Australia/Brisbane
DTEND:20260525T130000
UID:c2660ea43eae91f5d86e4c46eaaa19e7
DTSTAMP:1776697516
LOCATION:IGA Local Grocer Millmerran, Campbell Street, Millmerran QLD, Australia
DESCRIPTION:Our engagement team is hosting a drop-in session about the NSW/Qld Border to Gowrie section of Inland Rail. Come and see us with any questions you may have about the section.
URL;VALUE=URI:https://inlandrail.com.au/events/border-to-gowrie/millmerran-info-session-25-may-2026/
SUMMARY:Millmerran drop-in session, 25 May 2026
DTSTART:20260525T110000
END:VEVENT
END:VCALENDAR